BEGIN:VCALENDAR
VERSION:2.0
PRODID:-//Edgewall Software//NONSGML Trac 1.6//EN
METHOD:PUBLISH
X-WR-CALNAME:Samba for OS/2 and OS/2-based systems - Roadmap
X-WR-CALDESC:Port of Samba Server and Client code to the OS/2 and OS/2-base
 d systems platform
X-WR-TIMEZONE:UTC+02:00
BEGIN:VEVENT
UID:</samba/milestone/GUI Tools 1.0.0@trac.netlabs.org/samba>
DTSTAMP:20090619T220000Z
DTSTART;VALUE=DATE:20090620
SUMMARY:Milestone GUI Tools 1.0.0
URL:https://trac.netlabs.org/samba/milestone/GUI%20Tools%201.0.0
DESCRIPTION:without any helpfiles
END:VEVENT
END:VCALENDAR
